BEGIN:VCALENDAR
VERSION:2.0
PRODID:LFV Website-Kit
METHOD:PUBLISH
BEGIN:VEVENT
UID:lfv-d8e6b670-a4f7-4a15-b086-17c648a4a75c
LOCATION:
SUMMARY:Grillfest
DESCRIPTION:Termin Link: http://Kalchreuth.feuerwehren.bayern/termine/grillfest/
URL:http://Kalchreuth.feuerwehren.bayern/termine/grillfest/
CLASS:PRIVATE
DTSTART;TZID=Europe/Berlin:20260808T180000
DTEND;TZID=Europe/Berlin:20260808T235900
DTSTAMP:20260421T100926Z
END:VEVENT
END:VCALENDAR