BEGIN:VCALENDAR
VERSION:2.0
PRODID:LFV Website-Kit
METHOD:PUBLISH
BEGIN:VEVENT
UID:lfv-b3db05ca-0812-436f-a48c-dc46977c8b66
LOCATION:
SUMMARY:Jugendfeuerwehr - Jugendzeltlager
DESCRIPTION:Termin Link: http://Kalchreuth.feuerwehren.bayern/termine/jugendfeuerwehr-jugendzeltlager-2026/
URL:http://Kalchreuth.feuerwehren.bayern/termine/jugendfeuerwehr-jugendzeltlager-2026/
CLASS:PRIVATE
DTSTART;TZID=Europe/Berlin:20260731T100000
DTEND;TZID=Europe/Berlin:20260802T150000
DTSTAMP:20260421T090424Z
END:VEVENT
END:VCALENDAR