BEGIN:VCALENDAR
VERSION:2.0
PRODID:LFV Website-Kit
METHOD:PUBLISH
BEGIN:VEVENT
UID:lfv-5120f57f-e229-47c4-915b-4c61839cc913
LOCATION:
SUMMARY:Jugendfeuerwehr - Übung/Unterricht
DESCRIPTION:Termin Link: http://Kalchreuth.feuerwehren.bayern/termine/jugendfeuerwehr-ubungunterricht-10/
URL:http://Kalchreuth.feuerwehren.bayern/termine/jugendfeuerwehr-ubungunterricht-10/
CLASS:PRIVATE
DTSTART;TZID=Europe/Berlin:20260424T183000
DTEND;TZID=Europe/Berlin:20260424T200000
DTSTAMP:20260420T165204Z
END:VEVENT
END:VCALENDAR