BEGIN:VCALENDAR
VERSION:2.0
PRODID:LFV Website-Kit
METHOD:PUBLISH
BEGIN:VEVENT
UID:lfv-be7e14af-20f0-4aec-810f-0cc92fa9f58e
LOCATION:
SUMMARY:Jugendfeuerwehr - Übung/Unterricht
DESCRIPTION:Termin Link: http://Kalchreuth.feuerwehren.bayern/termine/jugendfeuerwehr-ubungunterricht-11/
URL:http://Kalchreuth.feuerwehren.bayern/termine/jugendfeuerwehr-ubungunterricht-11/
CLASS:PRIVATE
DTSTART;TZID=Europe/Berlin:20260522T183000
DTEND;TZID=Europe/Berlin:20260522T200000
DTSTAMP:20260420T181139Z
END:VEVENT
END:VCALENDAR