BEGIN:VCALENDAR
VERSION:2.0
PRODID:LFV Website-Kit
METHOD:PUBLISH
BEGIN:VEVENT
UID:lfv-e92148d1-17e7-4820-ad29-1ed532f7278e
LOCATION:
SUMMARY:Jugendfeuerwehr - Übung/Unterricht
DESCRIPTION:Termin Link: http://Kalchreuth.feuerwehren.bayern/termine/jugendfeuerwehr-ubungunterricht-13/
URL:http://Kalchreuth.feuerwehren.bayern/termine/jugendfeuerwehr-ubungunterricht-13/
CLASS:PRIVATE
DTSTART;TZID=Europe/Berlin:20260918T183000
DTEND;TZID=Europe/Berlin:20260918T200000
DTSTAMP:20260421T114141Z
END:VEVENT
END:VCALENDAR