BEGIN:VCALENDAR
VERSION:2.0
PRODID:LFV Website-Kit
METHOD:PUBLISH
BEGIN:VEVENT
UID:lfv-d78ce02e-dfb9-4770-84c6-ae39e7be864e
LOCATION:
SUMMARY:Jugendfeuerwehr - Übung/Unterricht
DESCRIPTION:Termin Link: http://Kalchreuth.feuerwehren.bayern/termine/jugendfeuerwehr-ubungunterricht-14/
URL:http://Kalchreuth.feuerwehren.bayern/termine/jugendfeuerwehr-ubungunterricht-14/
CLASS:PRIVATE
DTSTART;TZID=Europe/Berlin:20261002T183000
DTEND;TZID=Europe/Berlin:20261002T200000
DTSTAMP:20260421T163746Z
END:VEVENT
END:VCALENDAR