BEGIN:VCALENDAR
VERSION:2.0
PRODID:LFV Website-Kit
METHOD:PUBLISH
BEGIN:VEVENT
UID:lfv-4229fb88-483e-4a50-ac11-f65f93d717af
LOCATION:
SUMMARY:Jugendfeuerwehr - Übung/Unterricht
DESCRIPTION:Termin Link: http://Kalchreuth.feuerwehren.bayern/termine/jugendfeuerwehr-ubungunterricht-15/
URL:http://Kalchreuth.feuerwehren.bayern/termine/jugendfeuerwehr-ubungunterricht-15/
CLASS:PRIVATE
DTSTART;TZID=Europe/Berlin:20261113T183000
DTEND;TZID=Europe/Berlin:20261113T200000
DTSTAMP:20260421T231444Z
END:VEVENT
END:VCALENDAR