BEGIN:VCALENDAR
VERSION:2.0
PRODID:LFV Website-Kit
METHOD:PUBLISH
BEGIN:VEVENT
UID:lfv-3bd104a6-3f0e-4bdf-8fcd-89fea16c6a14
LOCATION:
SUMMARY:Jugendfeuerwehr - Wissenstest
DESCRIPTION:Termin Link: http://Kalchreuth.feuerwehren.bayern/termine/jugendfeuerwehr-wissenstest/
URL:http://Kalchreuth.feuerwehren.bayern/termine/jugendfeuerwehr-wissenstest/
CLASS:PRIVATE
DTSTART;TZID=Europe/Berlin:20261005T180000
DTEND;TZID=Europe/Berlin:20261005T200000
DTSTAMP:20260421T181442Z
END:VEVENT
END:VCALENDAR