BEGIN:VCALENDAR
VERSION:2.0
PRODID:LFV Website-Kit
METHOD:PUBLISH
BEGIN:VEVENT
UID:lfv-c11a98ee-b3fa-42d3-8d33-f1819297144d
LOCATION:
SUMMARY:Kinderfeuerwehr (2.-4. Klasse)
DESCRIPTION:Termin Link: http://Kalchreuth.feuerwehren.bayern/termine/kinderfeuerwehr-2-4-klasse-apr26/
URL:http://Kalchreuth.feuerwehren.bayern/termine/kinderfeuerwehr-2-4-klasse-apr26/
CLASS:PRIVATE
DTSTART;TZID=Europe/Berlin:20260425T144500
DTEND;TZID=Europe/Berlin:20260425T154500
DTSTAMP:20260420T164619Z
END:VEVENT
END:VCALENDAR