BEGIN:VCALENDAR
VERSION:2.0
PRODID:LFV Website-Kit
METHOD:PUBLISH
BEGIN:VEVENT
UID:lfv-2498b1ed-4b02-46ab-8ad4-415c876ab101
LOCATION:
SUMMARY:Kinderfeuerwehr (2.-4. Klasse)
DESCRIPTION:Termin Link: http://Kalchreuth.feuerwehren.bayern/termine/kinderfeuerwehr-2-4-klasse-jul26/
URL:http://Kalchreuth.feuerwehren.bayern/termine/kinderfeuerwehr-2-4-klasse-jul26/
CLASS:PRIVATE
DTSTART;TZID=Europe/Berlin:20260718T144500
DTEND;TZID=Europe/Berlin:20260718T154500
DTSTAMP:20260421T054401Z
END:VEVENT
END:VCALENDAR