BEGIN:VCALENDAR
VERSION:2.0
PRODID:LFV Website-Kit
METHOD:PUBLISH
BEGIN:VEVENT
UID:lfv-bcc8904d-493c-4d83-bcfe-3764c8ec70b1
LOCATION:
SUMMARY:Kinderfeuerwehr (2.-4. Klasse)
DESCRIPTION:Termin Link: http://Kalchreuth.feuerwehren.bayern/termine/kinderfeuerwehr-2-4-klasse-jun26/
URL:http://Kalchreuth.feuerwehren.bayern/termine/kinderfeuerwehr-2-4-klasse-jun26/
CLASS:PRIVATE
DTSTART;TZID=Europe/Berlin:20260613T144500
DTEND;TZID=Europe/Berlin:20260613T154500
DTSTAMP:20260421T021307Z
END:VEVENT
END:VCALENDAR