BEGIN:VCALENDAR
VERSION:2.0
PRODID:LFV Website-Kit
METHOD:PUBLISH
BEGIN:VEVENT
UID:lfv-11ade53b-eef9-49a7-810e-29016ba6e750
LOCATION:
SUMMARY:Kinderfeuerwehr (2.-4. Klasse)
DESCRIPTION:Termin Link: http://Kalchreuth.feuerwehren.bayern/termine/kinderfeuerwehr-2-4-klasse-okt26/
URL:http://Kalchreuth.feuerwehren.bayern/termine/kinderfeuerwehr-2-4-klasse-okt26/
CLASS:PRIVATE
DTSTART;TZID=Europe/Berlin:20261017T144500
DTEND;TZID=Europe/Berlin:20261017T154500
DTSTAMP:20260421T194944Z
END:VEVENT
END:VCALENDAR