BEGIN:VCALENDAR
VERSION:2.0
PRODID:LFV Website-Kit
METHOD:PUBLISH
BEGIN:VEVENT
UID:lfv-8fc52df6-d77b-4c4f-bd41-faead2aa87ff
LOCATION:
SUMMARY:Kinderfeuerwehr (2.-4. Klasse)
DESCRIPTION:Termin Link: http://Kalchreuth.feuerwehren.bayern/termine/kinderfeuerwehr-2-4-klasse-sep26/
URL:http://Kalchreuth.feuerwehren.bayern/termine/kinderfeuerwehr-2-4-klasse-sep26/
CLASS:PRIVATE
DTSTART;TZID=Europe/Berlin:20260919T144500
DTEND;TZID=Europe/Berlin:20260919T154500
DTSTAMP:20260421T131514Z
END:VEVENT
END:VCALENDAR