BEGIN:VCALENDAR
VERSION:2.0
PRODID:LFV Website-Kit
METHOD:PUBLISH
BEGIN:VEVENT
UID:lfv-42b9f2bb-d924-4d99-b3e0-b9269a9146cf
LOCATION:
SUMMARY:Kinderfeuerwehr (5. & 6. Klasse)
DESCRIPTION:Termin Link: http://Kalchreuth.feuerwehren.bayern/termine/kinderfeuerwehr-5-6-klasse-apr26/
URL:http://Kalchreuth.feuerwehren.bayern/termine/kinderfeuerwehr-5-6-klasse-apr26/
CLASS:PRIVATE
DTSTART;TZID=Europe/Berlin:20260425T150000
DTEND;TZID=Europe/Berlin:20260425T160000
DTSTAMP:20260420T164859Z
END:VEVENT
END:VCALENDAR