BEGIN:VCALENDAR
VERSION:2.0
PRODID:LFV Website-Kit
METHOD:PUBLISH
BEGIN:VEVENT
UID:lfv-0f1d899c-ef1a-4e22-bce0-8b78a63171ad
LOCATION:
SUMMARY:Kinderfeuerwehr (5. & 6. Klasse)
DESCRIPTION:Termin Link: http://Kalchreuth.feuerwehren.bayern/termine/kinderfeuerwehr-5-6-klasse-jul26/
URL:http://Kalchreuth.feuerwehren.bayern/termine/kinderfeuerwehr-5-6-klasse-jul26/
CLASS:PRIVATE
DTSTART;TZID=Europe/Berlin:20260718T150000
DTEND;TZID=Europe/Berlin:20260718T160000
DTSTAMP:20260421T072633Z
END:VEVENT
END:VCALENDAR