BEGIN:VCALENDAR
VERSION:2.0
PRODID:LFV Website-Kit
METHOD:PUBLISH
BEGIN:VEVENT
UID:lfv-cc90f2a2-07bf-4409-995b-9db0ee0d52a6
LOCATION:
SUMMARY:Kinderfeuerwehr (5. & 6. Klasse)
DESCRIPTION:Termin Link: http://Kalchreuth.feuerwehren.bayern/termine/kinderfeuerwehr-5-6-klasse-jun26/
URL:http://Kalchreuth.feuerwehren.bayern/termine/kinderfeuerwehr-5-6-klasse-jun26/
CLASS:PRIVATE
DTSTART;TZID=Europe/Berlin:20260613T150000
DTEND;TZID=Europe/Berlin:20260613T160000
DTSTAMP:20260421T041539Z
END:VEVENT
END:VCALENDAR