BEGIN:VCALENDAR
VERSION:2.0
PRODID:LFV Website-Kit
METHOD:PUBLISH
BEGIN:VEVENT
UID:lfv-655408ee-27b1-4d9a-beae-08e2408fd0d1
LOCATION:
SUMMARY:Kinderfeuerwehr (5. & 6. Klasse)
DESCRIPTION:Termin Link: http://Kalchreuth.feuerwehren.bayern/termine/kinderfeuerwehr-5-6-klasse-okt26/
URL:http://Kalchreuth.feuerwehren.bayern/termine/kinderfeuerwehr-5-6-klasse-okt26/
CLASS:PRIVATE
DTSTART;TZID=Europe/Berlin:20261017T150000
DTEND;TZID=Europe/Berlin:20261017T160000
DTSTAMP:20260421T213437Z
END:VEVENT
END:VCALENDAR