BEGIN:VCALENDAR
VERSION:2.0
PRODID:LFV Website-Kit
METHOD:PUBLISH
BEGIN:VEVENT
UID:lfv-0cb3797e-503a-4a69-a85f-3c4e7991dcdc
LOCATION:
SUMMARY:Kinderfeuerwehr (5. & 6. Klasse)
DESCRIPTION:Termin Link: http://Kalchreuth.feuerwehren.bayern/termine/kinderfeuerwehr-5-6-klasse-sep26/
URL:http://Kalchreuth.feuerwehren.bayern/termine/kinderfeuerwehr-5-6-klasse-sep26/
CLASS:PRIVATE
DTSTART;TZID=Europe/Berlin:20260919T150000
DTEND;TZID=Europe/Berlin:20260919T160000
DTSTAMP:20260421T145918Z
END:VEVENT
END:VCALENDAR