BEGIN:VCALENDAR
VERSION:2.0
PRODID:LFV Website-Kit
METHOD:PUBLISH
BEGIN:VEVENT
UID:lfv-c11781b5-ffd7-4530-be7e-8e238cc94884
LOCATION:
SUMMARY:Kinderfeuerwehr - Weihnachtsfeier
DESCRIPTION:Termin Link: http://Kalchreuth.feuerwehren.bayern/termine/kinderfeuerwehr-weihnachtsfeier26/
URL:http://Kalchreuth.feuerwehren.bayern/termine/kinderfeuerwehr-weihnachtsfeier26/
CLASS:PRIVATE
DTSTART;TZID=Europe/Berlin:20261128T150000
DTEND;TZID=Europe/Berlin:20261128T170000
DTSTAMP:20260422T005916Z
END:VEVENT
END:VCALENDAR